BEGIN:VCALENDAR
VERSION:2.0
PRODID:-//Commune de Lalaye - ECPv4.1.3//NONSGML v1.0//EN
CALSCALE:GREGORIAN
METHOD:PUBLISH
X-WR-CALNAME:Commune de Lalaye
X-ORIGINAL-URL:http://www.lalaye.fr
X-WR-CALDESC:Events for Commune de Lalaye
BEGIN:VEVENT
DTSTART;TZID=UTC+1:20160612T100000
DTEND;TZID=UTC+1:20160612T180000
DTSTAMP:20260424T152548
CREATED:20160510T155347
LAST-MODIFIED:20160510T155426
UID:105-1465725600-1465754400@www.lalaye.fr
SUMMARY:Salon Bien-Être
DESCRIPTION:3ème édition des journées du bien être dans la Vallée de Villé. Découverte des diverses méthodes naturelles de soin\, de relaxation et de remise en forme du corps et de l'esprit\, ainsi qu'autour de l'alimentation\, décoration\, le bon sommeil et autres démonstrations. Petite restauration et repas de dimanche midi sur réservation.\n\nJournée de samedi
URL:http://www.lalaye.fr/evenement/salon-bien-etre-2/
LOCATION:19 place de la Mairie\, LALAYE\, 67220\, France
END:VEVENT
END:VCALENDAR