BEGIN:VCALENDAR
VERSION:2.0
PRODID:-//Commune de Lalaye - ECPv4.1.3//NONSGML v1.0//EN
CALSCALE:GREGORIAN
METHOD:PUBLISH
X-WR-CALNAME:Commune de Lalaye
X-ORIGINAL-URL:http://www.lalaye.fr
X-WR-CALDESC:Events for Commune de Lalaye
BEGIN:VEVENT
DTSTART;TZID=UTC+1:20170604T100000
DTEND;TZID=UTC+1:20170604T190000
DTSTAMP:20260424T105434
CREATED:20160510T150950
LAST-MODIFIED:20170511T084407
UID:87-1496570400-1496602800@www.lalaye.fr
SUMMARY:Allée des Arts
DESCRIPTION:Des artistes locaux exposent leurs œuvres (sculpture\, peinture\, céramique\, photo\, bois\, travaux d'aiguilles\, etc...) à la salle polyvalente de Lalaye.\n\nArtistes amateurs\, tout comme artistes déjà confirmés et reconnus participent à cette exposition et viennent à la rencontre du public amateur d'art.\n\n\n\n \tAnimation musicale assurée par Déborah QUIRIN le dimanche de 12h00 à 13h00\n \tPetite restauration sur place tout le week-end et menu à 12 € le dimanche sur réservation au 06.86.85.13.17 avant le 24 mai 2017\n\n \tMenu: jambon\, galettes de pommes de terre\, salade verte\, fromage et salade de fruits\n\n\n\n\n \tVernissage samedi à 11h00 à la salle polyvalente de Lalaye\n\n \tHoraires: \n\n \tsamedi 3 juin 2017 de 10h00 à 20h00\n \tdimanche 4 juin 2017 de 10h00 à 19h00\n\n\n \tEntrée libre\n\n\n\nRenseignements au 06.86.85.13.17 ou au 03.88.57.04.62
URL:http://www.lalaye.fr/evenement/allee-des-arts-2/
LOCATION:19 place de la Mairie\, LALAYE\, 67220\, France
ATTACH;FMTTYPE=image/jpeg:http://www.lalaye.fr/wp-content/uploads/2017/05/Allée-des-Arts-2017.jpg
END:VEVENT
END:VCALENDAR