BEGIN:VCALENDAR
VERSION:2.0
PRODID:-//Commune de Lalaye - ECPv4.1.3//NONSGML v1.0//EN
CALSCALE:GREGORIAN
METHOD:PUBLISH
X-WR-CALNAME:Commune de Lalaye
X-ORIGINAL-URL:http://www.lalaye.fr
X-WR-CALDESC:Events for Commune de Lalaye
BEGIN:VEVENT
DTSTART;TZID=UTC+1:20181024T080000
DTEND;TZID=UTC+1:20181024T170000
DTSTAMP:20260423T155449
CREATED:20181024T143932
LAST-MODIFIED:20181024T143932
UID:814-1540368000-1540400400@www.lalaye.fr
SUMMARY:PLAN DE PREVENTION DES RISQUES INONDATION - PRESENTATION AU PUBLIC
DESCRIPTION:Présentation des aléas inondations  sur la Communauté des communes de la Vallée de Villé au public :\nLUNDI 3 DECEMBRE 2018 à 19 HEURES\nà la MJC de Villé (salle des spectacles).\n\n \n\n 
URL:http://www.lalaye.fr/evenement/plan-de-prevention-des-risques-inondation-presentation-au-public/
END:VEVENT
END:VCALENDAR